BEGIN:VCALENDAR
VERSION:2.0
PRODID:-//Swallow&#039;s Inn - ECPv6.15.13//NONSGML v1.0//EN
CALSCALE:GREGORIAN
METHOD:PUBLISH
X-WR-CALNAME:Swallow&#039;s Inn
X-ORIGINAL-URL:https://www.swallowsinn.com
X-WR-CALDESC:Events for Swallow&#039;s Inn
REFRESH-INTERVAL;VALUE=DURATION:PT1H
X-Robots-Tag:noindex
X-PUBLISHED-TTL:PT1H
BEGIN:VTIMEZONE
TZID:America/Los_Angeles
BEGIN:DAYLIGHT
TZOFFSETFROM:-0800
TZOFFSETTO:-0700
TZNAME:PDT
DTSTART:20250309T100000
END:DAYLIGHT
BEGIN:STANDARD
TZOFFSETFROM:-0700
TZOFFSETTO:-0800
TZNAME:PST
DTSTART:20251102T090000
END:STANDARD
BEGIN:DAYLIGHT
TZOFFSETFROM:-0800
TZOFFSETTO:-0700
TZNAME:PDT
DTSTART:20260308T100000
END:DAYLIGHT
BEGIN:STANDARD
TZOFFSETFROM:-0700
TZOFFSETTO:-0800
TZNAME:PST
DTSTART:20261101T090000
END:STANDARD
BEGIN:DAYLIGHT
TZOFFSETFROM:-0800
TZOFFSETTO:-0700
TZNAME:PDT
DTSTART:20270314T100000
END:DAYLIGHT
BEGIN:STANDARD
TZOFFSETFROM:-0700
TZOFFSETTO:-0800
TZNAME:PST
DTSTART:20271107T090000
END:STANDARD
END:VTIMEZONE
BEGIN:VEVENT
DTSTART;TZID=America/Los_Angeles:20260423T080000
DTEND;TZID=America/Los_Angeles:20260424T003000
DTSTAMP:20260423T055712
CREATED:20260401T211605Z
LAST-MODIFIED:20260401T211605Z
UID:851-1776931200-1776990600@www.swallowsinn.com
SUMMARY:Happy Thursday! Live Music by Beki Johnson & The Tequila Brothers Band 7pm to 11pm.
DESCRIPTION:Happy Hour: All drinks discounted
URL:https://www.swallowsinn.com/event/happy-thursday-live-music-by-beki-johnson-the-tequila-brothers-band-7pm-to-11pm/
END:VEVENT
BEGIN:VEVENT
DTSTART;TZID=America/Los_Angeles:20260424T080000
DTEND;TZID=America/Los_Angeles:20260425T013000
DTSTAMP:20260423T055712
CREATED:20260401T212925Z
LAST-MODIFIED:20260401T212925Z
UID:863-1777017600-1777080600@www.swallowsinn.com
SUMMARY:Happy Hour 4 to 7pm! Late Night Live Music by Big City Hillbillies from 9pm to 1am.
DESCRIPTION:Happy Hour: All Drinks. \nKitchen Hours: 5pm to 1:30am.
URL:https://www.swallowsinn.com/event/happy-hour-4-to-7pm-late-night-live-music-by-big-city-hillbillies-from-9pm-to-1am/
END:VEVENT
BEGIN:VEVENT
DTSTART;TZID=America/Los_Angeles:20260425T080000
DTEND;TZID=America/Los_Angeles:20260426T013000
DTSTAMP:20260423T055712
CREATED:20260402T175205Z
LAST-MODIFIED:20260402T175205Z
UID:896-1777104000-1777167000@www.swallowsinn.com
SUMMARY:All Day Fun! Music by The Apes Band 2-6pm. Followed by Jimi Nelson Band 9pm-1am.
DESCRIPTION:Beer Specials! $3 Budweiser & Bud Light 8am to 12pm \nKitchen Hours: Breakfast 9am-1pm. Lunch\, Dinner or Late Night Bites 2pm to 1:30am.
URL:https://www.swallowsinn.com/event/all-day-fun-music-by-the-apes-band-2-6pm-followed-by-jimi-nelson-band-9pm-1am/
END:VEVENT
BEGIN:VEVENT
DTSTART;TZID=America/Los_Angeles:20260426T080000
DTEND;TZID=America/Los_Angeles:20260426T220000
DTSTAMP:20260423T055712
CREATED:20260402T174915Z
LAST-MODIFIED:20260402T174915Z
UID:894-1777190400-1777240800@www.swallowsinn.com
SUMMARY:Weekend Encore! Live Music by Tricia Freeman Band 2 to 6pm
DESCRIPTION:Beer Specials! $3 Budweiser & Bud Light 8am to 12pm \nKitchen Hours: 9am to 1pm.
URL:https://www.swallowsinn.com/event/weekend-encore-live-music-by-tricia-freeman-band-2-to-6pm/
END:VEVENT
BEGIN:VEVENT
DTSTART;TZID=America/Los_Angeles:20260427T080000
DTEND;TZID=America/Los_Angeles:20260427T233000
DTSTAMP:20260423T055712
CREATED:20260402T173511Z
LAST-MODIFIED:20260402T173525Z
UID:882-1777276800-1777332600@www.swallowsinn.com
SUMMARY:Open at 8am Today! All Day Happy Hour! Country Dancin’ & Free Lessons.
DESCRIPTION:Happy Hour: All drinks are discounted. \nRibeye Steak Night 5pm- $25 \nLessons with Joe & Debra from 6-7pm. Country Dancing until 10pm.
URL:https://www.swallowsinn.com/event/open-at-8am-today-all-day-happy-hour-country-dancin-free-lessons-15/
END:VEVENT
BEGIN:VEVENT
DTSTART;TZID=America/Los_Angeles:20260428T080000
DTEND;TZID=America/Los_Angeles:20260428T233000
DTSTAMP:20260423T055712
CREATED:20260402T174007Z
LAST-MODIFIED:20260402T174007Z
UID:890-1777363200-1777419000@www.swallowsinn.com
SUMMARY:Taco Tuesday & Happy Hour Specials! DJ Champagne Cowgirl with Free Beginning Line Dance Lessons!
DESCRIPTION:Taco Tuesday Drink Specials All Day: $3 Bud or Bud Light. $5 Margaritas. \nLine Dance Beginner Lessons at 6pm. Intermediate Lessons at 7pm. Line Dancing 6pm to 11pm. \nTaco Tuesday Food Specials (5-9pm): 2 tacos for $5. \nHappy Hour on All Drinks: 4-7pm.
URL:https://www.swallowsinn.com/event/taco-tuesday-happy-hour-specials-dj-champagne-cowgirl-with-free-beginning-line-dance-lessons-18/
END:VEVENT
BEGIN:VEVENT
DTSTART;TZID=America/Los_Angeles:20260429T080000
DTEND;TZID=America/Los_Angeles:20260429T233000
DTSTAMP:20260423T055712
CREATED:20260401T210521Z
LAST-MODIFIED:20260401T210521Z
UID:845-1777449600-1777505400@www.swallowsinn.com
SUMMARY:Karaoke with KJ Joe 7-11pm! Wine\, Whiskey & Wing Wednesday Specials!
DESCRIPTION:$6 Glass or $15 bottles of Josh Wines (Chardonnay & Cabernet) & Sauvignon Blanc. \n$7 Glass or $20 bottles of La Crema (Chardonnay & Pinot Noir). \n$6 Jack Daniels drinks.
URL:https://www.swallowsinn.com/event/karaoke-with-kj-joe-7-11pm-wine-whiskey-wing-wednesday-specials-13/
END:VEVENT
BEGIN:VEVENT
DTSTART;TZID=America/Los_Angeles:20260430T080000
DTEND;TZID=America/Los_Angeles:20260501T003000
DTSTAMP:20260423T055712
CREATED:20260401T212121Z
LAST-MODIFIED:20260401T212121Z
UID:855-1777536000-1777595400@www.swallowsinn.com
SUMMARY:Two-Step Thursday! Live Music by Bravo Whiskey Band 7 to 11pm.
DESCRIPTION:Happy Hour4 to 7pm: All drinks discounted
URL:https://www.swallowsinn.com/event/two-step-thursday-live-music-by-bravo-whiskey-band-7-to-11pm/
END:VEVENT
END:VCALENDAR